BEGIN:VCALENDAR
VERSION:2.0
PRODID:-//Ellen Sinopoli Dance Company - ECPv6.15.12.2//NONSGML v1.0//EN
CALSCALE:GREGORIAN
METHOD:PUBLISH
X-ORIGINAL-URL:https://sinopolidances.org
X-WR-CALDESC:Events for Ellen Sinopoli Dance Company
REFRESH-INTERVAL;VALUE=DURATION:PT1H
X-Robots-Tag:noindex
X-PUBLISHED-TTL:PT1H
BEGIN:VTIMEZONE
TZID:UTC
BEGIN:STANDARD
TZOFFSETFROM:+0000
TZOFFSETTO:+0000
TZNAME:UTC
DTSTART:20220101T000000
END:STANDARD
END:VTIMEZONE
BEGIN:VEVENT
DTSTART;TZID=UTC:20230824T193000
DTEND;TZID=UTC:20230824T213000
DTSTAMP:20260423T144221
CREATED:20230427T194209Z
LAST-MODIFIED:20230629T142814Z
UID:936-1692905400-1692912600@sinopolidances.org
SUMMARY:Performance at Tannery Pond Community Center
DESCRIPTION:ESDC returns to the Tannery Pond Community Center’s stage\, in North Creek NY\, with a concert that highlights the company’s repertory of imaginative and inspiring works.
URL:https://sinopolidances.org/performance/performance-at-tannery-pond-community-center/
LOCATION:Tannery Pond Community Center\, 228 Main St\, North Creek\, NY\, 12853\, United States
CATEGORIES:Performances & Repertory
ATTACH;FMTTYPE=image/jpeg:https://sinopolidances.org/wp-content/uploads/2022/08/LTAR.2708-resize.jpeg
END:VEVENT
END:VCALENDAR